BEGIN:VCALENDAR
VERSION:2.0
PRODID:-//Tukios.com/
BEGIN:VEVENT
UID:aeb15fd1-2f5e-441f-9d2b-2880bb4e95f9@www.girrbachfuneralhome.net
DTSTAMP:20260419T205231Z
DTSTART:20260424T220000Z
DTEND:20260425T000000Z
SUMMARY:Visitation
DESCRIPTION:
URL:https://www.girrbachfuneralhome.net/obituaries/james-kubek
LOCATION:Girrbach Funeral Home 328 S Broadway St  Hastings MI 49058
GEO:42.6461367;-85.2910522
END:VEVENT
END:VCALENDAR