BEGIN:VCALENDAR
VERSION:2.0
PRODID:-//Tukios.com/
BEGIN:VEVENT
UID:8b4e6872-1c7a-4823-9ebd-06df18d786d4@www.girrbachfuneralhome.net
DTSTAMP:20260419T205400Z
DTSTART:20260425T150000Z
DTEND:20260425T160000Z
SUMMARY:Funeral Service
DESCRIPTION:
URL:https://www.girrbachfuneralhome.net/obituaries/james-kubek
LOCATION:St. Rose of Lima Catholic Church 804 South Jefferson Street  
	Hastings MI 49058
GEO:42.6421275;-85.2878599
END:VEVENT
END:VCALENDAR