BEGIN:VCALENDAR
VERSION:2.0
PRODID:-//Tukios.com/
BEGIN:VEVENT
UID:5b83f8a5-d7b2-4286-b98b-fb7d259e7b82@www.girrbachfuneralhome.net
DTSTAMP:20260419T205836Z
DTSTART:20260425T000000Z
DTEND:20260425T003000Z
SUMMARY:Rosary
DESCRIPTION:
URL:https://www.girrbachfuneralhome.net/obituaries/james-kubek
LOCATION: 328 S Broadway St  Hastings MI 49058
GEO:42.6461367;-85.2910522
END:VEVENT
END:VCALENDAR