BEGIN:VCALENDAR
VERSION:2.0
PRODID:-//Tukios.com/
BEGIN:VEVENT
UID:21c73155-1907-449d-a99b-320965d02975@www.girrbachfuneralhome.net
DTSTAMP:20260420T210956Z
DTSTART:20260426T180000Z
DTEND:20260426T190000Z
SUMMARY:Celebration of Life
DESCRIPTION:
URL:https://www.girrbachfuneralhome.net/obituaries/patricia-haroldeen-withiem
LOCATION:Hastings Free Methodist Church 2635 Michigan 43  Hastings MI 
	49058
GEO:42.6924292;-85.2928806
END:VEVENT
END:VCALENDAR