BEGIN:VCALENDAR
VERSION:2.0
PRODID:-//Tukios.com/
BEGIN:VEVENT
UID:52ee3c05-c560-4466-af5c-3aa265991035@www.girrbachfuneralhome.net
DTSTAMP:20260420T162017Z
DTSTART:20260423T200000Z
DTEND:20260423T230000Z
SUMMARY:Visitation
DESCRIPTION:
URL:https://www.girrbachfuneralhome.net/obituaries/william-cappon-sr
LOCATION: 328 S Broadway St  Hastings MI 49058
GEO:42.6461367;-85.2910522
END:VEVENT
END:VCALENDAR