BEGIN:VCALENDAR
VERSION:2.0
PRODID:-//Tukios.com/
BEGIN:VEVENT
UID:2f1f53b9-e948-476f-b6cd-64a4765fbdf1@www.girrbachfuneralhome.net
DTSTAMP:20260420T161807Z
DTSTART:20260424T150000Z
DTEND:20260424T160000Z
SUMMARY:Funeral Service
DESCRIPTION:
URL:https://www.girrbachfuneralhome.net/obituaries/william-cappon-sr
LOCATION: 328 S Broadway St  Hastings MI 49058
GEO:42.6461367;-85.2910522
END:VEVENT
END:VCALENDAR