BEGIN:VCALENDAR
VERSION:2.0
PRODID:-//Tukios.com/
BEGIN:VEVENT
UID:a4f7c143-2423-4270-bf86-ec5c3f399e55@www.girrbachfuneralhome.net
DTSTAMP:20260420T162313Z
DTSTART:20260424T140000Z
DTEND:20260424T150000Z
SUMMARY:Visitation
DESCRIPTION:
URL:https://www.girrbachfuneralhome.net/obituaries/william-cappon-sr
LOCATION: 328 S Broadway St  Hastings MI 49058
GEO:42.6461367;-85.2910522
END:VEVENT
END:VCALENDAR